BEGIN:VCALENDAR
VERSION:2.0
PRODID:-//ChamberMaster//Event Calendar 2.0//EN
METHOD:PUBLISH
X-PUBLISHED-TTL:P3D
REFRESH-INTERVAL:P3D
CALSCALE:GREGORIAN
BEGIN:VEVENT
DTSTART:20260530T033000Z
DTEND:20260530T053000Z
X-MICROSOFT-CDO-ALLDAYEVENT:FALSE
SUMMARY:YP Sip & Play: Golf Driving Range
DESCRIPTION:Grab your clubs and join the fun!   \n\n\n\nJoin the Young Professionals Program for its YP Sip & Play: Golf Driving Range\, a high-energy evening of movement\, connection\, and community! Mingle with fellow young professionals in a relaxed and fun environment. Attendees are not required to play and may opt to just socialize.\n\n\n\nWhether you're a seasoned player or a beginner\, come practice your swings and enjoy time on the green! \n\n\n\nRegistration includes one drink ticket and light pupus.\n\n\n\nPlease Note: Golf club rentals will not be available at this event. All attendees are required to bring their own clubs. Please plan accordingly and don't forget to pack your gear!\n\nAttire: Golf attire\, sun protection encouraged (hat\, sunglasses\, sunscreen)\n\n\n\nLimited to the first 26 people who sign up\, this is an event you don't want to miss!
X-ALT-DESC;FMTTYPE=text/html:<p data-end="263" data-start="94"><span style="font-size:14px\;"><span style="font-family:verdana\;"><span style="color:#0000FF\;"><strong>Grab your clubs and join the fun!&nbsp\;</strong></span></span></span>&#127948\;&#65039\;<br />\n<br />\n<span style="font-size:14px\;"><span style="font-family:verdana\;">Join the Young Professionals Program for its YP Sip &amp\; Play: Golf&nbsp\;Driving Range\, a high-energy evening&nbsp\;of movement\, connection\, and community!&nbsp\;</span></span><span style="font-family: verdana\; font-size: 14px\;">Mingle with&nbsp\;fellow young professionals&nbsp\;in a relaxed and fun environment. Attendees are not required to play and may opt to just socialize.</span><br />\n<br />\n<span style="font-family: verdana\; font-size: 14px\;">Whether you&#39\;re a seasoned player or a beginner\, come practice your swings and enjoy time on the green!&nbsp\;</span><br />\n<br />\n<span style="font-size:14px\;"><span style="font-family:verdana\;">Registration includes one drink ticket and light pupus.<br />\n<br />\n<u><strong>Please Note:</strong></u><strong> </strong>Golf club rentals will not be available at this event. All attendees are required to bring their own clubs. Please plan accordingly and don&#39\;t forget to pack your gear!</span></span></p>\n\n<p><span style="font-size:14px\;"><span style="font-family:verdana\;"><u><strong>Attire:</strong></u><strong>&nbsp\;</strong></span><span style="font-family:verdana\;">Golf&nbsp\;attire\,&nbsp\;</span><span style="font-family:verdana\;">s</span><span style="font-family:verdana\;">un protection encouraged (hat\, sunglasses\, sunscreen)</span></span><br />\n<br />\n<span style="font-size:14px\;"><span style="font-family: verdana\;">Limited to the first 26&nbsp\;people who sign up\, this is an event you don&#39\;t want to miss!</span></span><br />\n<br />\n&nbsp\;</p>\n
LOCATION:Bayview Driving Range Free parking available at lot
UID:e.2453.1114834
SEQUENCE:3
DTSTAMP:20260423T051214Z
URL:https://business.cochawaii.org/events/details/yp-sip-play-golf-driving-range-1114834
END:VEVENT

END:VCALENDAR
