BEGIN:VCALENDAR
VERSION:2.0
PRODID:-//ChamberMaster//Event Calendar 2.0//EN
METHOD:PUBLISH
X-PUBLISHED-TTL:P3D
REFRESH-INTERVAL:P3D
CALSCALE:GREGORIAN
BEGIN:VEVENT
DTSTART:20260521T033000Z
DTEND:20260521T053000Z
X-MICROSOFT-CDO-ALLDAYEVENT:FALSE
SUMMARY:YP Preview Nights
DESCRIPTION:Join Young Professionals for our Preview Nights series!\nJoin us for a night of informative fun and discover what the Young Professionals (YP) Program has to offer. Whether you're a new YP member or someone interested in learning more before joining\, this event is perfect for you.\n\n\n\nWe'll kick off the evening with an overview of the YP Program\, sharing insights on how you can maximize your experience and benefit from the many opportunities it provides.\n\n\n\nFollowing the introduction\, you'll get a taste of the program in action and the chance to connect with fellow professionals\, build relationships\, and enhance your networking skills.\n\n\n\nDon't miss this opportunity to learn\, connect\, and take the first step in your YP journey! \n\n\n\nLight pupus and beverages will be provided. \n\n\n\nMahalo to Hawaii Coworking for being venue sponsor!
X-ALT-DESC;FMTTYPE=text/html:<p><span style="color:#0000FF\;"><strong style="font-family: verdana\; font-size: 14px\;">Join Young Professionals for our Preview Nights series!</strong></span></p>\n<span style="font-size:14px\;"><span style="font-family:verdana\;"><span style="color:#000000\;">Join us for a night of informative fun and discover what the Young Professionals (YP) Program has to offer. Whether you&#39\;re a new YP member or someone interested in learning more before joining\, this event is perfect for you.<br />\n<br />\nWe&#39\;ll kick off the evening with an overview of the YP Program\, sharing insights on how you can maximize your experience and benefit from the many opportunities it provides.<br />\n<br />\nFollowing the introduction\, you&#39\;ll get a taste of the program in action and the chance to connect with fellow professionals\, build relationships\, and enhance your networking skills.<br />\n<br />\nDon&#39\;t miss this opportunity to learn\, connect\, and take the first step in your YP journey!&nbsp\;</span></span></span><br />\n<br />\n<span style="font-family: verdana\; font-size: 14px\;">Light pupus and beverages will be&nbsp\;provided.&nbsp\;</span><br />\n<br />\n<span style="color:#0000FF\;"><strong><span style="font-family: verdana\; font-size: 14px\;">Mahalo to Hawaii Coworking for being venue sponsor!</span></strong></span>
LOCATION:Hawaii Coworking Parking: Validated parking available at the Eaton Sq Public Parking lot. Guests loading or unloading equipment are encouraged to use the 4th floor\, which offers a direct walkway into the building. Additional options include metered street parking at $3/hour\, or complimentary parking along the Ala Wai Canal\, a short 3-minute walk away. Paid parking is not included with registration.
UID:e.2453.1114833
SEQUENCE:3
DTSTAMP:20260422T232545Z
URL:https://business.cochawaii.org/events/details/yp-preview-nights-1114833
END:VEVENT

END:VCALENDAR
