BEGIN:VCALENDAR
VERSION:2.0
PRODID:-//ChamberMaster//Event Calendar 2.0//EN
METHOD:PUBLISH
X-PUBLISHED-TTL:P3D
REFRESH-INTERVAL:P3D
CALSCALE:GREGORIAN
BEGIN:VEVENT
DTSTART:20241121T033000Z
DTEND:20241121T053000Z
X-MICROSOFT-CDO-ALLDAYEVENT:FALSE
SUMMARY:YP Pau Hana Series: Thanksgiving Charcuterie presented by Bank of Hawaii
DESCRIPTION:Unfortunately\, this event is sold out. Please register to be placed on the waiting list. Mahalo!\n\n\n\nDive into a fun and interactive Thanksgiving experience with the "You and Ai" Charcuterie Club!\n\n\n\nRegistration includes the chance to craft your own charcuterie box\, filled with a delicious assortment of artisanal meats\, gourmet cheeses\, seasonal fruits\, olives\, nuts\, crackers\, and sweet treats. \n\n\n\nTo complement your creation\, enjoy thoughtfully curated wine pairings. This is a wonderful opportunity to gather\, share stories\, and celebrate the flavors of the season. \n\n\n\nJoin us for an unforgettable evening of creativity and community we can't wait to see you there!
X-ALT-DESC;FMTTYPE=text/html:<strong style="font-family: verdana\; font-size: 14px\;"><span style="color: rgb(255\, 0\, 0)\;">Unfortunately\, this event is sold out. Please register to be placed on the waiting list. Mahalo!</span></strong><br />\n<br />\n<span style="font-size:14px\;"><span style="font-family:verdana\;"><strong>Dive into a fun and interactive Thanksgiving experience with the &ldquo\;You and Ai&rdquo\; Charcuterie Club!</strong><br />\n<br />\nRegistration includes the chance to craft your own charcuterie box\, filled with a delicious assortment of artisanal meats\, gourmet cheeses\, seasonal fruits\, olives\, nuts\, crackers\, and sweet treats.&nbsp\;<br />\n<br />\nTo complement your creation\, enjoy thoughtfully curated wine pairings. This is a wonderful opportunity to gather\, share stories\, and celebrate the flavors of the season.&nbsp\;<br />\n<br />\nJoin us for an unforgettable evening of creativity and community&mdash\;we can&rsquo\;t wait to see you there!</span></span>
LOCATION:Pacific Guardian ABC Conference Room. Parking is available at the Pacific Guardian Center parking garage for a flat rate of $4 after 4 PM. Parking is not included with registration.
UID:e.2453.1114568
SEQUENCE:3
DTSTAMP:20260420T173545Z
URL:https://business.cochawaii.org/events/details/yp-pau-hana-series-thanksgiving-charcuterie-presented-by-bank-of-hawaii-1114568
END:VEVENT

END:VCALENDAR
