BEGIN:VCALENDAR
VERSION:2.0
PRODID:-//ChamberMaster//Event Calendar 2.0//EN
METHOD:PUBLISH
X-PUBLISHED-TTL:P3D
REFRESH-INTERVAL:P3D
CALSCALE:GREGORIAN
BEGIN:VEVENT
DTSTART:20230518T220000Z
DTEND:20230519T043000Z
X-MICROSOFT-CDO-ALLDAYEVENT:FALSE
SUMMARY:YP Cost of Living Summit presented by Tradewind Group
DESCRIPTION:ONLINE REGISTRATION FOR THIS EVENT HAS CLOSED. Mahalo!\n\n\n\nLet's collaborate!\nAs Millennials and Gen Zers\, we understand firsthand how incredibly tough it is to live and raise a family in Hawaii. \n\n\n\n	Housing is expensive.\n	Childcare and early childhood education is expensive.\n	Everything is expensive.\n\n\n\nWith these challenges\, we can't blame our peers for moving to the mainland\, where it's generally cheaper to live.  But imagine if we all were super engaged\, had a united and mighty voice\, and sparked a movement in Hawaii.  How powerful would that be?\n\n\n\nAt the YP Cost of Living Summit\, we want YOU to help brainstorm innovative solutions and tell your story to policymakers and community leaders. \n\n \n\nAGENDA: Registration includes lunch\, one pau hana beverage ticket and light pupus\n\n\n	\n	11:30 AM Registration\n	\n\n\n12:00 PM Exec Connect Style Lunch - Attendees will interact with legislators\, policymakers\, and community leaders in an intimate setting. Options are:\n\n\n	Representative Della Au Belatti\, Hawaii State Legislature\n	Senator Stanley Chang\n	Jackie Contant\, Deputy Chief of Staff\, Office of Congressman Ed Case\n	Councilmember Radiant Cordero\, Honolulu City Council\n	 Council Member Tyler Dos Santos-Tam\, Honolulu City Council\n	John Fink\, President & CEO\, Aloha United Way\n	 Representative Troy Hashimoto\n	Vice Speaker Greggor Ilagan\, State of Hawaii\n	Gladys Quinto Marrone\, Executive Director\, Nareit Hawaii\n	Colbert Matsumoto\, Chairman of Tradewind Group\n	Council Chair Tommy Waters\, Honolulu City Council\n	Josh Wisch\, President & CEO of Holomua Collective\n\n\n1:05 PM Keynote Address by Lieutenant Governor Sylvia Luke\n\n1:45 PM Cost of Living Housing Panel Discussion\n\n\n	\n	Chelsie Evans\, Executive Director\, Hawaiian Community Assets\n	\n	 Nani Medeiros\, Chief Housing Officer\, Office of the Governor\, State of Hawaii\n	\n	Senator Scott Weiner\, California State Legislature\n	\n	 Facilitator: Ryan Catalani\, Executive Director\, Family Promise of Hawaii\n\n\n 2:55 PM Cost of Childcare and Early Childhood Education Panel Discussion\n\n\n	\n	 Erin Henderson Lacerdo\, Executive Director\, Association for Infant Mental Health in Hawaii\n	\n	\n	Lieutenant Governor Sylvia Luke\n	\n	\n	Dr. Megan McCorriston\, Chief Executive Officer\, Seagull Schools\n	\n\n\n4:05 PM Cost of Food and Energy Panel Discussion\n\n\n	Representative Scot Matayoshi\, Hawaii State Legislature\n	Steven Nakahara\, EVP & Chief Credit Officer\, American Savings Bank\n	Rebecca Dayhuff Matsushima\, Vice President\, Resource Procurement\, Hawaiian Electric Company\n	Facilitator: Alena Auyoung\, Information Governance Officer\, Kamehameha Schools\n\n\n5:05 PM Closing Remarks\n\n5:30 PM Pau Hana\n\nSESSIONS:  We will have one-hour sessions on (1) housing\, (2) childcare and early childhood education\, and (3) food and energy.  The goal of these sessions is to motivate attendees to be a part of the solution.  \n\n\n	\n	First 25 minutes:  Each session will have a panel of 3-4 experts on the topic.  We intend to have experts that represent different viewpoints\, experiences\, and backgrounds.  Through a moderator\, audience members can ask questions of the panelists. \n	\n	\n	Next 25 minutes:  We will facilitate small group discussion and think tank-style brainstorming.  Panel members can walk around and chime into the small group discussions.\n	\n	Last 10 minutes:  Groups will present their ideas to the larger audience.\n\n\n \n\nJoin the conversation to impact change!
X-ALT-DESC;FMTTYPE=text/html:<span style="border:none windowtext 1.0pt\;padding:0in\;"><span style="color:#FF0000\;"><span style="font-family:verdana\,sans-serif\;"><span style="font-size:10.5pt\;"><strong>ONLINE REGISTRATION FOR THIS EVENT HAS CLOSED. Mahalo!</strong></span></span></span><br />\n<br />\n<span style="color:black\;"><span style="font-family:verdana\,sans-serif\;"><span style="font-size:10.5pt\;">Let&#39\;s collaborate!</span></span></span></span>\n<p><span style="border:none windowtext 1.0pt\;padding:0in\;"><span style="color:black\;"><span style="font-family:verdana\,sans-serif\;"><span style="font-size:10.5pt\;">As Millennials and Gen Zers\, we understand firsthand how incredibly tough it is to live and raise a family in Hawaii.&nbsp\;</span></span></span></span></p>\n\n<div style="margin-left: 0in\; line-height: normal\; background: white\; vertical-align: baseline\;">\n<ul>\n	<li style="margin-bottom: 0in\;"><span style="color: black\; font-size: 14px\;"><span style="font-family: verdana\;">Housing is&nbsp\;</span></span><font color="#000000" face="verdana"><span style="font-size: 14px\;">expensive.</span></font></li>\n	<li style="color: black\; margin-left: 0in\; line-height: normal\; background-image: initial\; background-position: initial\; background-size: initial\; background-repeat: initial\; background-attachment: initial\; background-origin: initial\; background-clip: initial\; vertical-align: baseline\;"><span style="border: 1pt none windowtext\; padding: 0in\;"><span style="font-family: verdana\, sans-serif\;"><span style="font-size: 10.5pt\;">Childcare and early childhood education is expensive.</span></span></span></li>\n	<li style="color: black\; margin-left: 0in\; line-height: normal\; background-image: initial\; background-position: initial\; background-size: initial\; background-repeat: initial\; background-attachment: initial\; background-origin: initial\; background-clip: initial\; vertical-align: baseline\;"><span style="font-size: 14px\;"><span style="font-family: verdana\;"><em><u>Everything</u></em> is expensive.</span></span></li>\n</ul>\n</div>\n\n<p><span style="font-size:14px\;"><span style="font-family:verdana\;"><span style="border:none windowtext 1.0pt\;padding:0in\;"><span style="color:black\;"><span style="font-family:verdana\,sans-serif\;"><span style="font-size:10.5pt\;">With these challenges\, we can&#39\;t blame our peers for moving to the mainland\, where it&#39\;s generally cheaper to live.&nbsp\; But imagine if we all were super engaged\, had a united and mighty voice\, and sparked a movement in Hawaii.&nbsp\; How powerful would that be?</span></span></span></span><br />\n<br />\n<span style="border:none windowtext 1.0pt\;padding:0in\;"><span style="color:black\;"><span style="font-family:verdana\,sans-serif\;"><span style="font-size:10.5pt\;">At the YP Cost of Living Summit\, we want YOU to help brainstorm innovative solutions and tell your story to policymakers and community leaders.&nbsp\;</span></span></span></span><br />\n&nbsp\;<br />\n<strong>AGENDA: </strong>Registration includes lunch\,&nbsp\;one pau hana beverage ticket and light pupus</span></span></p>\n\n<ul>\n	<li style="margin-bottom:0in\;">\n	<p><strong><span style="font-size:14px\;"><span style="font-family:verdana\;">11:30 AM Registration</span></span></strong></p>\n	</li>\n</ul>\n\n<div style="margin-bottom: 0in\;"><strong><span style="font-size:14px\;"><span style="font-family:verdana\;">12:00 PM Exec Connect Style Lunch -&nbsp\;Attendees will interact with legislators\, policymakers\, and community leaders in an intimate setting. Options are:</span></span></strong></div>\n\n<ul>\n	<li style="margin-bottom: 0in\;"><span style="color:#0000FF\;"><span style="font-size:14px\;"><span style="font-family:verdana\;">Representative Della Au Belatti\, Hawaii State Legislature</span></span></span></li>\n	<li style="margin-bottom: 0in\;"><span style="color: rgb(0\, 0\, 255)\;"><span style="font-size: 14px\;"><span style="font-family: verdana\;">Senator Stanley Chang</span></span></span></li>\n	<li style="margin-bottom: 0in\;"><span style="color:#0000FF\;"><span style="font-size:14px\;"><span style="font-family:verdana\;">Jackie Contant\, Deputy Chief of Staff\, Office of Congressman Ed Case</span></span></span></li>\n	<li style="margin-bottom: 0in\;"><span style="color:#0000FF\;"><span style="font-size:14px\;"><span style="font-family:verdana\;">Councilmember Radiant Cordero\, Honolulu City Council</span></span></span></li>\n	<li style="margin-bottom: 0in\;"><span style="color:#0000FF\;"><span style="font-size:14px\;"><span style="font-family:verdana\;">&#8203\;Council Member Tyler Dos Santos-Tam\, Honolulu City Council</span></span></span></li>\n	<li style="margin-bottom: 0in\;"><span style="color:#0000FF\;"><span style="font-size:14px\;"><span style="font-family:verdana\;">John Fink\, President &amp\; CEO\, Aloha United Way</span></span></span></li>\n	<li style="margin-bottom: 0in\;"><span style="color:#0000FF\;"><span style="font-size:14px\;"><span style="font-family:verdana\;">&#8203\;<span style="color:#0000FF\;"><span style="font-size:14px\;"><span style="font-family:verdana\;">Representative Troy Hashimoto</span></span></span></span></span></span></li>\n	<li><span style="color: rgb(0\, 0\, 255)\; font-family: verdana\; font-size: 14px\;">Vice Speaker Greggor Ilagan\, State of Hawaii</span></li>\n	<li><span style="color:#0000FF\;"><span style="font-size:14px\;"><span style="font-family:verdana\;">Gladys Quinto Marrone\, Executive Director\, Nareit Hawaii</span></span></span></li>\n	<li><span style="font-family: verdana\; font-size: 14px\; color: rgb(0\, 0\, 255)\;">Colbert Matsumoto\, Chairman of Tradewind Group</span></li>\n	<li><span style="font-family: verdana\; font-size: 14px\; color: rgb(0\, 0\, 255)\;">Council Chair Tommy Waters\, Honolulu City Council</span></li>\n	<li><span style="font-family: verdana\; font-size: 14px\; color: rgb(0\, 0\, 255)\;">Josh Wisch\, President &amp\; CEO of Holomua Collective</span></li>\n</ul>\n\n<div style="margin-bottom: 0in\;"><strong><span style="font-size:14px\;"><span style="font-family:verdana\;">1:05 PM Keynote Address by&nbsp\;<span style="font-size: 14px\;"><span style="font-family: verdana\;"><a href="https://ltgov.hawaii.gov/lg-luke/"><span style="color: rgb(0\, 0\, 255)\;"><span style="margin: 0px\; padding: 0px\; border: 0px\; outline: 0px\; vertical-align: baseline\; background: 0px 0px rgba(255\, 255\, 255\, 0.96)\;">Lieutenant Governor Sylvia Luke</span></span></a></span></span></span></span></strong></div>\n\n<div style="margin-bottom: 0in\;"><span style="font-size:14px\;"><span style="font-family:verdana\;"><strong>1:45 PM Cost of Living Housing Panel Discussion</strong></span></span></div>\n\n<ul>\n	<li style="margin-bottom: 0in\;">\n	<p><span style="color:#0000FF\;"><span style="font-size:14px\;"><span style="font-family:verdana\;">Chelsie Evans\, Executive Director\, Hawaiian Community Assets</span></span></span></p>\n	</li>\n	<li style="margin-bottom: 0in\;"><span style="font-size:14px\;"><span style="font-family:verdana\;"><span style="color:#0000FF\;">&#8203\;<span style="color:#0000FF\;"><span style="font-size:14px\;"><span style="font-family:verdana\;">Nani Medeiros\, Chief Housing Officer\, Office of the Governor\, State of Hawaii</span></span></span></span></span></span></li>\n	<li style="margin-bottom: 0in\;">\n	<p><span style="color:#0000FF\;"><span style="font-size:14px\;"><span style="font-family:verdana\;">Senator Scott Weiner\, California State Legislature</span></span></span></p>\n	</li>\n	<li style="margin-bottom: 0in\;"><span style="color:#0000FF\;"><span style="font-size:14px\;"><span style="font-family:verdana\;">&#8203\;Facilitator: Ryan Catalani\, Executive Director\, Family Promise of Hawaii</span></span></span></li>\n</ul>\n\n<div style="margin-bottom: 0in\;"><strong><span style="font-size:14px\;"><span style="font-family:verdana\;">&#8203\;</span></span><span style="font-size:14px\;"><span style="font-family:verdana\;">2:55 PM Cost of Childcare and Early Childhood Education Panel Discussion</span></span></strong></div>\n\n<ul>\n	<li style="margin-bottom: 0in\;">\n	<p><span style="font-size:14px\;"><span style="font-family:verdana\;"><a href="https://ltgov.hawaii.gov/lg-luke/"><span style="color:#0000FF\;"><span style="margin: 0px\; padding: 0px\; border: 0px\; outline: 0px\; vertical-align: baseline\; background: 0px 0px rgba(255\, 255\, 255\, 0.96)\; font-weight: 700\;">&#8203\;</span></span></a><span style="color:#0000FF\;">Erin Henderson Lacerdo\, Executive Director\, Association for Infant Mental Health in Hawaii</span></span></span></p>\n	</li>\n	<li style="margin-bottom: 0in\;">\n	<p><span style="font-size: 14px\;"><span style="font-family: verdana\;"><a href="https://ltgov.hawaii.gov/lg-luke/"><span style="color: rgb(0\, 0\, 255)\;"><span style="margin: 0px\; padding: 0px\; border: 0px\; outline: 0px\; vertical-align: baseline\; background: 0px 0px rgba(255\, 255\, 255\, 0.96)\;">Lieutenant Governor Sylvia Luke</span></span></a></span></span></p>\n	</li>\n	<li>\n	<p><span style="color:#0000FF\;"><span style="font-size:14px\;"><span style="font-family:verdana\;">Dr. Megan McCorriston\, Chief Executive Officer\, Seagull Schools</span></span></span></p>\n	</li>\n</ul>\n\n<div style="margin-bottom: 0in\;"><strong><span style="font-size:14px\;"><span style="font-family:verdana\;">4:05 PM Cost of Food and Energy Panel Discussion</span></span></strong></div>\n\n<ul>\n	<li style="margin-bottom: 0in\;"><span style="color:#0000FF\;"><span style="font-size: 14px\;"><span style="font-family: verdana\;">Representative&nbsp\;Scot Matayoshi\, Hawaii State Legislature</span></span></span></li>\n	<li style="margin-bottom: 0in\;"><span style="color:#0000FF\;"><span style="font-size:14px\;"><span style="font-family:verdana\;"><span style="font-size:14px\;"><span style="font-family:verdana\;">Steven Nakahara\, EVP &amp\; Chief Credit Officer\,&nbsp\;American Savings Bank</span></span></span></span></span></li>\n	<li style="margin-bottom: 0in\;"><span style="color:#0000FF\;"><span style="font-size:14px\;"><span style="font-family:verdana\;"><span style="font-size:14px\;"><span style="font-family:verdana\;"><span style="font-size:14px\;"><span style="font-family:verdana\;">Rebecca Dayhuff Matsushima\, Vice President\, Resource Procurement\, Hawaiian Electric Company</span></span></span></span></span></span></span></li>\n	<li style="margin-bottom: 0in\;"><span style="color:#0000FF\;"><span style="font-size:14px\;"><span style="font-family:verdana\;"><span style="font-size:14px\;"><span style="font-family:verdana\;"><span style="font-size:14px\;"><span style="font-family:verdana\;">Facilitator: Alena Auyoung\, Information Governance Officer\, Kamehameha Schools</span></span></span></span></span></span></span></li>\n</ul>\n\n<p style="margin-bottom:0in\;"><strong><span style="font-size:14px\;"><span style="font-family:verdana\;">5:05 PM Closing Remarks</span></span></strong></p>\n\n<p style="margin-bottom:0in\;"><strong><span style="font-size:14px\;"><span style="font-family:verdana\;">5:30 PM Pau Hana</span></span></strong></p>\n\n<p><span style="font-size:14px\;"><span style="font-family:verdana\;"><strong>SESSIONS:</strong> &nbsp\;We will have one-hour sessions on (1) housing\, (2) childcare and early childhood education\, and (3) food and energy. &nbsp\;The goal of these sessions is to motivate attendees to be a part of the solution.&nbsp\; </span></span></p>\n\n<ul>\n	<li>\n	<p><span style="font-size:14px\;"><span style="font-family:verdana\;"><strong>First 25&nbsp\;minutes:&nbsp\; </strong>Each session will have a panel of 3-4 experts on the topic.&nbsp\; We intend to have experts that represent different viewpoints\, experiences\, and backgrounds.&nbsp\; Through a moderator\, audience members can ask questions of the panelists.&nbsp\;</span></span></p>\n	</li>\n	<li style="margin-bottom:0in\;">\n	<p><span style="font-size:14px\;"><span style="font-family:verdana\;"><strong>Next 25&nbsp\;minutes: </strong>&nbsp\;We will facilitate small group discussion and think tank-style brainstorming.&nbsp\; Panel members can walk around and chime into the small group discussions.</span></span></p>\n	</li>\n	<li style="margin-bottom: 0in\;"><span style="font-size:14px\;"><span style="font-family:verdana\;"><strong>Last 10 minutes:&nbsp\; </strong>Groups will present their ideas to the larger audience.</span></span></li>\n</ul>\n\n<p style="margin-bottom:0in\;">&nbsp\;</p>\n\n<p style="margin-bottom: 0in\; text-align: center\;"><span style="font-size:14px\;"><span style="font-family:verdana\;"><em><strong>Join the conversation to impact change!</strong></em><br />\n&#8203\;</span></span></p>\n
LOCATION:Hawaii Convention Center 306 A/B and Charlot Courtyard Parking: $15 Flat Rate
UID:e.2453.1114305
SEQUENCE:3
DTSTAMP:20260420T123242Z
URL:https://business.cochawaii.org/events/details/yp-cost-of-living-summit-presented-by-tradewind-group-1114305
END:VEVENT

END:VCALENDAR
