BEGIN:VCALENDAR
VERSION:2.0
PRODID:-//ChamberMaster//Event Calendar 2.0//EN
METHOD:PUBLISH
X-PUBLISHED-TTL:P3D
REFRESH-INTERVAL:P3D
CALSCALE:GREGORIAN
BEGIN:VEVENT
DTSTART:20260424T210000Z
DTEND:20260424T230000Z
X-MICROSOFT-CDO-ALLDAYEVENT:FALSE
SUMMARY:YP Community Connect
DESCRIPTION:Calling all young professionals!  \n\nIn honor of National Volunteer Month this April\, join us for the annual YP Community Connect networking event.\n\n\n\nAre you a community-minded young professional between the ages of 21 and 39? Don't miss out on this opportunity to connect with amazing local nonprofits and make a difference in your community.\n\n\n	Learn about local nonprofits and their impactful work\n	Discover open positions on nonprofit boards and committees\n	Explore opportunities to serve and enhance leadership skills\n	Expand professional networks and forge meaningful connections\n\n\nRegister today and join us for an afternoon of connection\, collaboration\, and community building. Together\, let's make a difference!\n\n\n\nNonprofits in attendance include:\n\n\n	AAUW Honolulu\n	AccessSurf Hawaii\n	Aloha United Way Society of Young Leaders\n	American Red Cross\n	Big Brothers Big Sisters Hawaii\n	Child & Family Service\n	Common Grace\n	Family Promise\n	Girl Scouts of Hawaii\n	Hawaii Public Radio\n	IHS (The Institute for Human Services)\n	Junior Achievement of Hawaii\n	Lanakila Pacific\n	Make-A-Wish Hawaii\n	Project Vision Hawaii\n	Rotary (Honolulu Sunrise & Kahala Sunrise)\n	Salvation Army & Echelon
X-ALT-DESC;FMTTYPE=text/html:<p an="" annual="" apple="" at="" celebration="" color="" community="" connect="" font-size:="" for="" helvetica="" inspiring="" join="" month="" national="" networking="" noto="" of="" our="" p="" program="" segoe="" span="" the="" ui="" volunteer="" white-space-collapse:="" yp=""><u style="font-family: verdana\; font-size: 14px\;"><strong>Calling all young professionals!</strong></u> &#127775\;<br />\n<span style="font-size:14px\;"><span style="font-family:verdana\;">In honor of National Volunteer Month this April\, join us for the annual YP Community Connect networking event.<br />\n<br />\nAre you a community-minded young professional between the ages of 21 and 39? Don&#39\;t miss out on this opportunity to connect with amazing local nonprofits and make a difference in your community.</span></span></p>\n\n<ul>\n	<li apple="" at="" color="" community="" font-size:="" helvetica="" members="" noto="" p="" segoe="" span="" ui="" white-space-collapse:="" yp=""><span style="font-size:14px\;"><span style="font-family:verdana\;">Learn about local nonprofits and their impactful work</span></span></li>\n	<li apple="" at="" color="" community="" font-size:="" helvetica="" members="" noto="" p="" segoe="" span="" ui="" white-space-collapse:="" yp=""><span style="font-size:14px\;"><span style="font-family:verdana\;">Discover open positions on nonprofit boards and committees</span></span></li>\n	<li apple="" at="" color="" community="" font-size:="" helvetica="" members="" noto="" p="" segoe="" span="" ui="" white-space-collapse:="" yp=""><span style="font-size:14px\;"><span style="font-family:verdana\;">Explore opportunities to serve and enhance leadership skills</span></span></li>\n	<li apple="" at="" color="" community="" font-size:="" helvetica="" members="" noto="" p="" segoe="" span="" ui="" white-space-collapse:="" yp=""><span style="font-size:14px\;"><span style="font-family:verdana\;">Expand professional networks and forge meaningful connections</span></span></li>\n</ul>\n\n<p a="" and="" apple="" be="" become="" color="" community="" development="" font-size:="" helvetica="" just="" new="" noto="" p="" proactive="" professional="" segoe="" span="" steward="" t="" take="" to="" ui="" white-space-collapse:="" your=""><span style="font-size:14px\;"><span style="font-family:verdana\;">Register today and join us for an afternoon of connection\, collaboration\, and community building. Together\, let&#39\;s make a difference!<br />\n<br />\n<u><strong>Nonprofits in attendance include:</strong></u></span></span></p>\n\n<ul>\n	<li><span style="font-size:14px\;"><span style="font-family:verdana\;">AAUW Honolulu</span></span></li>\n	<li><span style="font-size:14px\;"><span style="font-family:verdana\;">AccessSurf Hawaii</span></span></li>\n	<li><span style="font-size:14px\;"><span style="font-family:verdana\;">Aloha United Way Society of Young Leaders</span></span></li>\n	<li><span style="font-size:14px\;"><span style="font-family:verdana\;">American Red Cross</span></span></li>\n	<li><span style="font-size:14px\;"><span style="font-family:verdana\;">Big Brothers Big Sisters Hawaii</span></span></li>\n	<li><span style="font-size:14px\;"><span style="font-family:verdana\;">Child &amp\; Family Service</span></span></li>\n	<li><span style="font-size:14px\;"><span style="font-family:verdana\;">Common Grace</span></span></li>\n	<li><span style="font-size:14px\;"><span style="font-family:verdana\;">Family Promise</span></span></li>\n	<li><span style="font-size:14px\;"><span style="font-family:verdana\;">Girl Scouts of Hawaii</span></span></li>\n	<li><span style="font-size:14px\;"><span style="font-family:verdana\;">Hawaii Public Radio</span></span></li>\n	<li><span style="font-size:14px\;"><span style="font-family:verdana\;">IHS (The Institute for Human Services)</span></span></li>\n	<li><span style="font-size:14px\;"><span style="font-family:verdana\;">Junior Achievement of Hawaii</span></span></li>\n	<li><span style="font-size:14px\;"><span style="font-family:verdana\;">Lanakila Pacific</span></span></li>\n	<li><span style="font-size:14px\;"><span style="font-family:verdana\;">Make-A-Wish Hawaii</span></span></li>\n	<li><span style="font-size:14px\;"><span style="font-family:verdana\;">Project Vision Hawaii</span></span></li>\n	<li><span style="font-size:14px\;"><span style="font-family:verdana\;">Rotary (Honolulu Sunrise &amp\; Kahala Sunrise)</span></span></li>\n	<li><span style="font-size:14px\;"><span style="font-family:verdana\;">Salvation Army &amp\; Echelon</span></span></li>\n</ul>\n
LOCATION:Central Pacific Bank Tidepools Paid parking options include: Central Pacific Plaza 220 S King Street - Level 3 and above - at $3.50/half hour\, maxing out at $42.00 for the day. Ali'i Place Parking at $3.00/2 hours with a max of $21.00. *Parking not included with registration
UID:e.2453.1114771
SEQUENCE:3
DTSTAMP:20260422T092206Z
URL:https://business.cochawaii.org/events/details/yp-community-connect-1114771
END:VEVENT

END:VCALENDAR
