BEGIN:VCALENDAR
VERSION:2.0
PRODID:-//ChamberMaster//Event Calendar 2.0//EN
METHOD:PUBLISH
X-PUBLISHED-TTL:P3D
REFRESH-INTERVAL:P3D
CALSCALE:GREGORIAN
BEGIN:VEVENT
DTSTART:20260627T030000Z
DTEND:20260627T070000Z
X-MICROSOFT-CDO-ALLDAYEVENT:FALSE
SUMMARY:Impact Gala: Advocacy Awards & Highlights Presented by United Airlines
DESCRIPTION:The Chamber of Commerce Hawaii invites you to join us for the Impact Gala: Advocacy Awards and Highlights Presented by United Airlines\, an evening bringing together Hawaii's business and legislative leaders to reflect on the recent legislative session and recognize the policymakers who have made a meaningful impact on our business community.\n\nThe program kicks off with a Leadership Forum and Session Highlights from the 2026 session\, taking a look at insights on priority issues\, and will conclude with Advocacy Awards honoring legislators whose leadership has strengthened Hawaii's economic environment.\n\n\nAward Categories: \n\n\n	Woman Leaders of the Year\n	Small Business Advocates of the Year\n	Blueprint Champions of the Year\n	Chamber Champion of the Year\n	Chamber Lifetime Achievement Award\n\n*Honorees to be announced May 2026\n\n\n\nTable sponsorship and individual tickers are available. Register today before it is sold out. CLCIK HERE to view the Sponsorship Packet of information.\n\n\n\nEvening schedule:\n\n5:00 PM: Registration\n\n5:30 - 6:15 PM: Cocktail Reception\n\n6:30 - 7:30 PM: Dinner Service \n\n7:30 - 8:30 PM: Leadership Forum & Session Highlights\n\n8:30 - 9:00 PM: Awards Ceremony & Speeches
X-ALT-DESC;FMTTYPE=text/html:<p dir="ltr" style="line-height:1.295\;margin-top:0pt\;margin-bottom:8pt\;"><span style="font-size:14px\;"><span style="font-family:verdana\;">The Chamber of Commerce Hawaii invites you to join us for the <strong><em data-end="399" data-start="354">Impact Gala: Advocacy Awards and Highlight</em><em data-end="399" data-start="354">s Presented by United Airlines</em></strong>\, an evening bringing together Hawaii&rsquo\;s business and legislative leaders to reflect on the recent legislative session and recognize the policymakers who have made a meaningful impact on our business community.</span></span></p>\n\n<p data-end="854" data-start="611"><span style="font-size:14px\;"><span style="font-family:verdana\;">The program kicks off with a Leadership Forum and Session&nbsp\;Highlights from the 2026 session\, taking a look at insights on priority issues\, and will conclude with&nbsp\;Advocacy Awards honoring legislators whose leadership has strengthened Hawaii&rsquo\;s economic environment.</span></span></p>\n\n<div style="margin-top:0in\;margin-right:0in\;margin-bottom:0in\;">\n<div style="color: rgb(32\, 33\, 36)\; font-family: docs-Roboto\; font-size: 14.6667px\; background-color: rgb(255\, 255\, 255)\;"><span style="font-family:verdana\;">Award Categories:&nbsp\;</span>\n\n<ul>\n	<li><span style="font-family:verdana\;"><span style="font-size:12px\;"><span style="font-size:14px\;"><b>Woman Leaders of the Year</b></span></span></span></li>\n	<li><span style="font-family:verdana\;"><span style="font-size:12px\;"><span style="font-size:14px\;"><b>Small Business Advocates of the Year</b></span></span></span></li>\n	<li><span style="font-family:verdana\;"><span style="font-size:12px\;"><span style="font-size:14px\;"><b>Blueprint Champions of the Year</b></span></span></span></li>\n	<li><span style="font-family:verdana\;"><span style="font-size:12px\;"><span style="font-size:14px\;"><b>Chamber Champion of the Year</b></span></span></span></li>\n	<li><span style="font-family:verdana\;"><span style="font-size:12px\;"><b><span style="font-size:14px\;">Chamber Lifetime Achievement Award</span></b></span></span></li>\n</ul>\n<span style="font-family:verdana\;"><span style="font-size:12px\;"><em><span style="font-size:14px\;">*Honorees to be announced May 2026</span></em><br />\n<br />\n<b><span style="font-size:14px\;">Table sponsorship and individual tickers are available. Register today before it is sold out. <a href="https://chambermaster.blob.core.windows.net/userfiles/UserFiles/chambers/2453/File/ImpactGalaSponorshipUPDATED4.6.pdf">CLCIK HERE</a> to view the Sponsorship Packet of information.<br />\n<br />\nEvening schedule:</span></b></span></span>\n\n<div data-olk-copy-source="MessageBody" role="presentation" style="color: black\; font-size: 12pt\; font-family: Aptos\, Aptos_EmbeddedFont\, Aptos_MSFontService\, Calibri\, Helvetica\, sans-serif\; margin: 0px\;border: 0px\; font: inherit\; margin: 0px\; padding: 0px\; vertical-align: baseline\; color: inherit\;"><span style="font-size:14px\;"><span style="font-family:verdana\;">5:00 PM: Registration</span></span></div>\n\n<div style="color: black\; font-size: 12pt\; font-family: Aptos\, Aptos_EmbeddedFont\, Aptos_MSFontService\, Calibri\, Helvetica\, sans-serif\; margin: 0px\;"><span style="font-size:14px\;"><span style="font-family:verdana\;">5:30 - 6:15 PM: Cocktail Reception</span></span></div>\n\n<div style="color: black\; font-size: 12pt\; font-family: Aptos\, Aptos_EmbeddedFont\, Aptos_MSFontService\, Calibri\, Helvetica\, sans-serif\; margin: 0px\;"><span style="font-size:14px\;"><span style="font-family:verdana\;">6:30 - 7:30 PM: Dinner Service&nbsp\;</span></span></div>\n\n<div role="presentation" style="color: black\; font-size: 12pt\; font-family: Aptos\, Aptos_EmbeddedFont\, Aptos_MSFontService\, Calibri\, Helvetica\, sans-serif\;border: 0px\; font: inherit\; margin: 0px\; padding: 0px\; vertical-align: baseline\; color: inherit\;"><span style="font-size:14px\;"><span style="font-family:verdana\;">7:30 - 8:30 PM: Leadership Forum &amp\; Session Highlights</span></span></div>\n\n<div role="presentation" style="color: black\; font-size: 12pt\; font-family: Aptos\, Aptos_EmbeddedFont\, Aptos_MSFontService\, Calibri\, Helvetica\, sans-serif\; margin: 0px\;border: 0px\; font: inherit\; margin: 0px\; padding: 0px\; vertical-align: baseline\; color: inherit\;"><span style="font-size:14px\;"><span style="font-family:verdana\;">8:30 - 9:00 PM: Awards Ceremony &amp\; Speeches&nbsp\;</span></span></div>\n\n<div>&nbsp\;</div>\n</div>\n</div>\n
LOCATION:Hilton Hawaiian Village\, Coral Ballroom
UID:e.2453.1114787
SEQUENCE:3
DTSTAMP:20260422T000451Z
URL:https://business.cochawaii.org/events/details/impact-gala-advocacy-awards-highlights-presented-by-united-airlines-1114787
END:VEVENT

END:VCALENDAR
